BEGIN:VCALENDAR
VERSION:2.0
PRODID:-//Backzeit - Das Backstudio - ECPv6.15.20//NONSGML v1.0//EN
CALSCALE:GREGORIAN
METHOD:PUBLISH
X-WR-CALNAME:Backzeit - Das Backstudio
X-ORIGINAL-URL:https://backzeit-backstudio.de
X-WR-CALDESC:Veranstaltungen für Backzeit - Das Backstudio
REFRESH-INTERVAL;VALUE=DURATION:PT1H
X-Robots-Tag:noindex
X-PUBLISHED-TTL:PT1H
BEGIN:VTIMEZONE
TZID:Europe/Berlin
BEGIN:DAYLIGHT
TZOFFSETFROM:+0100
TZOFFSETTO:+0200
TZNAME:CEST
DTSTART:20250330T010000
END:DAYLIGHT
BEGIN:STANDARD
TZOFFSETFROM:+0200
TZOFFSETTO:+0100
TZNAME:CET
DTSTART:20251026T010000
END:STANDARD
BEGIN:DAYLIGHT
TZOFFSETFROM:+0100
TZOFFSETTO:+0200
TZNAME:CEST
DTSTART:20260329T010000
END:DAYLIGHT
BEGIN:STANDARD
TZOFFSETFROM:+0200
TZOFFSETTO:+0100
TZNAME:CET
DTSTART:20261025T010000
END:STANDARD
BEGIN:DAYLIGHT
TZOFFSETFROM:+0100
TZOFFSETTO:+0200
TZNAME:CEST
DTSTART:20270328T010000
END:DAYLIGHT
BEGIN:STANDARD
TZOFFSETFROM:+0200
TZOFFSETTO:+0100
TZNAME:CET
DTSTART:20271031T010000
END:STANDARD
BEGIN:DAYLIGHT
TZOFFSETFROM:+0100
TZOFFSETTO:+0200
TZNAME:CEST
DTSTART:20280326T010000
END:DAYLIGHT
BEGIN:STANDARD
TZOFFSETFROM:+0200
TZOFFSETTO:+0100
TZNAME:CET
DTSTART:20281029T010000
END:STANDARD
END:VTIMEZONE
BEGIN:VEVENT
DTSTART;TZID=Europe/Berlin:20260210T170000
DTEND;TZID=Europe/Berlin:20270209T210000
DTSTAMP:20260419T170510
CREATED:20220615T154334Z
LAST-MODIFIED:20251222T102425Z
UID:10000086-1770742800-1802206800@backzeit-backstudio.de
SUMMARY:Brotbackkurs  Abendkurs 100 € - ausverkauft - mit Brotzeit und Getränke
DESCRIPTION:Sauerteig – welcher ist für mich der Richtige?\nDie verschiedenen Formen der Teigsäuerung werden erlernt\, und ausgetestet.\nBrot backen – wie kann ich das problemlos Zuhause?\nZur Brotzeit\, sowie als Highlight für Ihre Grillparty.\nSie werden staunen!\nEiweißbrot – der Tipp für Ernährungsbewusste\nBrot hat normalerweise etwa 50-53 % Kohlenhydratanteil.\nMein Eiweißbrot hat nur 3\,5 % – Ideal für eine Kohlenhydrat reduzierte Ernährung.\nLernen Sie Schritt für Schritt dieses köstliche Brot zu backen.\n\nEine kleine Rohstoffkunde über Zusammensetzung – Wirkungsweise – und Backverhalten runden den Kurs ab. Während des Kurses werden Sie selbstverständlich mit Softgetränken und Kaffee versorgt.\nWenn Sie zu Hause ein Problem beim Nachmachen haben – einfach Mail senden – Wir helfen gerne weiter – natürlich kostenlos.\nKursunterlagen – Getränke – Mitnahmegebäck (Kostproben) – sind in der Kursgebühr enthalten. Backzutaten\, sowie einiges Backwerkzeug können auch im Anschluss des Kurses käuflich erworben werden.\nBringen Sie einfach Ihr Interesse und gute Laune mit\, um einige Stunden mit netten Menschen zusammen zu sein. \n    \n  
URL:https://backzeit-backstudio.de/kurstermine/brotbackkurs/
LOCATION:Backzeit-Backstudio-Manufaktur\, Holzweg 55\, Augsburg\, 86156\, Deutschland
CATEGORIES:Backzeit,Brot & Brötchen
ATTACH;FMTTYPE=image/jpeg:https://backzeit-backstudio.de/wp-content/uploads/2018/07/Hüttenbrot-für-Kurs3.jpg
ORGANIZER;CN="Lothar Rother":MAILTO:info@backzeit-backstudio.de
END:VEVENT
BEGIN:VEVENT
DTSTART;TZID=Europe/Berlin:20260501T100000
DTEND;TZID=Europe/Berlin:20260501T140000
DTSTAMP:20260419T170510
CREATED:20241227T134750Z
LAST-MODIFIED:20260204T184627Z
UID:10000139-1777629600-1777644000@backzeit-backstudio.de
SUMMARY:Brotbackkurs 100 € - ausverkauft-  mit Frühstück und Getränke
DESCRIPTION:Sauerteig – welcher ist für mich der Richtige?\nDie verschiedenen Formen der Teigsäuerung werden erlernt\, und ausgetestet.\nBrot backen – wie kann ich das problemlos Zuhause?\nZur Brotzeit\, sowie als Highlight für Ihre Grillparty.\nSie werden staunen!\nEiweißbrot – der Tipp für Ernährungsbewusste\nBrot hat normalerweise etwa 50-53 % Kohlenhydratanteil.\nMein Eiweißbrot hat nur 3\,5 % – Ideal für eine Kohlenhydrat reduzierte Ernährung.\nLernen Sie Schritt für Schritt dieses köstliche Brot zu backen.\n\nEine kleine Rohstoffkunde über Zusammensetzung – Wirkungsweise – und Backverhalten runden den Kurs ab. Während des Kurses werden Sie selbstverständlich mit Softgetränken und Kaffee versorgt.\nWenn Sie zu Hause ein Problem beim Nachmachen haben – einfach Mail senden – Wir helfen gerne weiter – natürlich kostenlos.\nKursunterlagen – Getränke – Mitnahmegebäck (Kostproben) – sind in der Kursgebühr enthalten. Backzutaten\, sowie einiges Backwerkzeug können auch im Anschluss des Kurses käuflich erworben werden.\nBringen Sie einfach Ihr Interesse und gute Laune mit\, um einige Stunden mit netten Menschen zusammen zu sein. \n     \n  
URL:https://backzeit-backstudio.de/kurstermine/brotbackkurs-2-2/
LOCATION:Backzeit-Backstudio-Manufaktur\, Holzweg 55\, Augsburg\, 86156\, Deutschland
CATEGORIES:Backzeit,Brot & Brötchen
ATTACH;FMTTYPE=image/jpeg:https://backzeit-backstudio.de/wp-content/uploads/2018/07/Hüttenbrot-für-Kurs3.jpg
END:VEVENT
BEGIN:VEVENT
DTSTART;TZID=Europe/Berlin:20260503T100000
DTEND;TZID=Europe/Berlin:20260503T140000
DTSTAMP:20260419T170510
CREATED:20230225T112430Z
LAST-MODIFIED:20260306T101609Z
UID:10000119-1777802400-1777816800@backzeit-backstudio.de
SUMMARY:Sonntagssemmel 100 € - ausverkauft - mit Frühstück und Getränke
DESCRIPTION:Eine kleine Rohstoffkunde über Zusammensetzung – Wirkungsweise – und Backverhalten runden den Kurs ab.\nWährend des Kurses werden Sie selbstverständlich mit Softgetränken und Kaffee versorgt.\nWenn Sie zu Hause ein Problem beim Nachmachen haben – einfach Mail senden – Wir helfen gerne weiter – natürlich kostenlos.\nKursunterlagen – Getränke – Mitnahmegebäck (Kostproben) – sind in der Kursgebühr enthalten.\nBackzutaten\, sowie einiges Backwerkzeug können auch im Anschluss des Kurses käuflich erworben werden.\nBringen Sie einfach Ihr Interesse und gute Laune mit\, um einige Stunden mit netten Menschen zusammen zu sein. \nKursinhalt:\n\nSonntagswecken\n\nschnell\, sicher\, und einfach hergestellt. Am Samstag gemacht – und am Sonntag zum Frühstück gebacken. \n\nRosinensemmel – oder Milchsemmel / Eiweckerl\n\nder Extraklasse\, auch zum Einfrieren\, damit die ganze Woche gerettet ist. \n\nLaugengebäck\n\n– was wären wir in Bayern ohne unser Laugengebäck. Das ist einfacher als Sie denken – versprochen-\nZöpferl – Knopfsemmel\, das können Sie auch. Werden Sie einfach mit unserer Hilfe zum Profi. \n\nSonnenblumenbrot\n\n\nRoggenmischbrot\n\nlange saftig – mit Natursauerteig \nKursdauer: 3-4  Stunden\nAbgehalten wird der Kurs von einem Bäckermeister/in. \nDenken Sie bitte daran\, dass Sie Ihre eigene Schürze mitbringen müssen. Alles was gebacken wurde\, wird dann von den Teilnehmern mit genommen. Bitte bringen Sie Verpackungsutensilien selber mit. \n    \n    
URL:https://backzeit-backstudio.de/kurstermine/sonntagssemmel-mit-fruehstueck-und-getraenke/
LOCATION:Backzeit-Backstudio-Manufaktur\, Holzweg 55\, Augsburg\, 86156\, Deutschland
CATEGORIES:Backzeit,Brot & Brötchen
ATTACH;FMTTYPE=image/jpeg:https://backzeit-backstudio.de/wp-content/uploads/2022/06/Salzstangerl.jpeg
ORGANIZER;CN="Lothar Rother":MAILTO:info@backzeit-backstudio.de
END:VEVENT
BEGIN:VEVENT
DTSTART;TZID=Europe/Berlin:20260509T100000
DTEND;TZID=Europe/Berlin:20260509T140000
DTSTAMP:20260419T170510
CREATED:20241118T070926Z
LAST-MODIFIED:20260319T142230Z
UID:10000134-1778320800-1778335200@backzeit-backstudio.de
SUMMARY:Grillgebäck 100 €   mit Frühstück und Getränke
DESCRIPTION:       \n         \nSpezialkurs zur Grillparty\n\nSeelen\n\nZwiebelseelen nach Originalrezept \n\nOlivenbrot\n\ndamit wird jedes Grillfleisch überflüssig \n\nBlätterteig Käsestangen\n\nFür den besonderen Gaumen – mit selber gemachtem Blätterteig \n\nLaugenknöpfe sowie Laugenzöpfle – Brezen\n\nSchnell\, sicher und einfach hergestellt. \n\nZwiebelbaguette\n\noriginal – lecker – knackig \nPizza- Focaccia- sooooooo  lecker\n  \nEine kleine Rohstoffkunde über Zusammensetzung – Wirkungsweise – und Backverhalten runden den Kurs ab. \nSie schauen zu\, stellen Ihre Fragen\, backen selber und erhalten natürlich die Rezepte und Ihre Backwaren mit nachhause. Dann können Sie sehen\, wie lange Ihr Selbstgebackenes frisch und saftig bleibt. Während des Kurses werden Sie selbstverständlich mit Softgetränken und Kaffee versorgt. \nWenn Sie zu Hause ein Problem beim Nachmachen haben – einfach Mail senden – Wir helfen gerne weiter – natürlich kostenlos. \nKursunterlagen – Getränke – Mitnahmegebäck (Kostproben) – sind in der Kursgebühr enthalten. Backzutaten\, sowie einiges Backwerkzeug können auch im Anschluss des Kurses käuflich erworben werden. \nBringen Sie einfach Ihr Interesse und gute Laune mit\, um einige Stunden mit netten Menschen zusammen zu sein.
URL:https://backzeit-backstudio.de/kurstermine/grillgebaeck-2/
LOCATION:Backzeit-Backstudio-Manufaktur\, Holzweg 55\, Augsburg\, 86156\, Deutschland
CATEGORIES:Backzeit,Blätterteig,Brot & Brötchen
ORGANIZER;CN="Lothar Rother":MAILTO:info@backzeit-backstudio.de
END:VEVENT
BEGIN:VEVENT
DTSTART;TZID=Europe/Berlin:20260510T100000
DTEND;TZID=Europe/Berlin:20260510T140000
DTSTAMP:20260419T170510
CREATED:20241118T144632Z
LAST-MODIFIED:20260222T162113Z
UID:10000135-1778407200-1778421600@backzeit-backstudio.de
SUMMARY:Macarons 100 €  mit Mama zum Muttertag  mit Frühstück und Getränke
DESCRIPTION:Macarons sind die Krönung der ästhetischen Pâtisserie. Das französische Baiser-Gebäck kommt mal in eleganter Pastell-Optik und mal knall-bunt daher\, fast zu schade um es gleich im Mund verschwinden zu lassen. Doch was anderes bleibt uns meist nicht übrig\, denn Macarons sehen nicht nur verdammt gut aus\, sondern schmecken auch himmlisch. \n  \nUnser Konditormeister zeigt Ihnen wie Sie diese Leckerei sicher Zuhause herstellen können. \nUnsere Füllungen werden Sie überraschen. Im Programm auch die Herstellung einer ital. Baiser Masse. \nSie können im Kurs dann auch die Zutaten erwerben.
URL:https://backzeit-backstudio.de/kurstermine/macarons-100-e-mit-fruehstueck-und-getraenke-april-20234-2/
LOCATION:Backzeit-Backstudio-Manufaktur\, Holzweg 55\, Augsburg\, 86156\, Deutschland
CATEGORIES:Backzeit,Macarons,Süßes zum Kaffee
ATTACH;FMTTYPE=image/jpeg:https://backzeit-backstudio.de/wp-content/uploads/2024/11/20241020_131411-scaled.jpg
ORGANIZER;CN="Lothar Rother":MAILTO:info@backzeit-backstudio.de
END:VEVENT
BEGIN:VEVENT
DTSTART;TZID=Europe/Berlin:20260516T100000
DTEND;TZID=Europe/Berlin:20260516T140000
DTSTAMP:20260419T170510
CREATED:20241126T114548Z
LAST-MODIFIED:20260306T101448Z
UID:10000136-1778925600-1778940000@backzeit-backstudio.de
SUMMARY:Sonntagssemmel 100 €   mit Frühstück und Getränke
DESCRIPTION:Eine kleine Rohstoffkunde über Zusammensetzung – Wirkungsweise – und Backverhalten runden den Kurs ab.\nWährend des Kurses werden Sie selbstverständlich mit Softgetränken und Kaffee versorgt.\nWenn Sie zu Hause ein Problem beim Nachmachen haben – einfach Mail senden – Wir helfen gerne weiter – natürlich kostenlos.\nKursunterlagen – Getränke – Mitnahmegebäck (Kostproben) – sind in der Kursgebühr enthalten.\nBackzutaten\, sowie einiges Backwerkzeug können auch im Anschluss des Kurses käuflich erworben werden.\nBringen Sie einfach Ihr Interesse und gute Laune mit\, um einige Stunden mit netten Menschen zusammen zu sein. \nKursinhalt:\n\nSonntagswecken\n\nschnell\, sicher\, und einfach hergestellt. Am Samstag gemacht – und am Sonntag zum Frühstück gebacken. \n\nRosinensemmel – oder Milchsemmel / Eiweckerl\n\nder Extraklasse\, auch zum Einfrieren\, damit die ganze Woche gerettet ist. \n\nLaugengebäck\n\n– was wären wir in Bayern ohne unser Laugengebäck. Das ist einfacher als Sie denken – versprochen-\nZöpferl – Knopfsemmel\, das können Sie auch. Werden Sie einfach mit unserer Hilfe zum Profi. \n\nSonnenblumenbrot\n\n\nRoggenmischbrot\n\nlange saftig – mit Natursauerteig \nKursdauer: 3-4 Stunden\nAbgehalten wird der Kurs von einem Bäckermeister/in. \nDenken Sie bitte daran\, dass Sie Ihre eigene Schürze mitbringen müssen. Alles was gebacken wurde\, wird dann von den Teilnehmern mit genommen. Bitte bringen Sie Verpackungsutensilien selber mit. \n      
URL:https://backzeit-backstudio.de/kurstermine/sonntagssemmel-80-e-mit-fruehstueck-und-getraenke-3-2/
LOCATION:Backzeit-Backstudio-Manufaktur\, Holzweg 55\, Augsburg\, 86156\, Deutschland
CATEGORIES:Backzeit,Brot & Brötchen
ATTACH;FMTTYPE=image/jpeg:https://backzeit-backstudio.de/wp-content/uploads/2019/01/IMG_4761.jpg
ORGANIZER;CN="Lothar Rother":MAILTO:info@backzeit-backstudio.de
END:VEVENT
BEGIN:VEVENT
DTSTART;TZID=Europe/Berlin:20260517T100000
DTEND;TZID=Europe/Berlin:20260517T140000
DTSTAMP:20260419T170510
CREATED:20220929T102153Z
LAST-MODIFIED:20260219T161031Z
UID:10000100-1779012000-1779026400@backzeit-backstudio.de
SUMMARY:Brotbackkurs 100 € - ausverkauft - mit Frühstück und Getränke
DESCRIPTION:Sauerteig – welcher ist für mich der Richtige?\nDie verschiedenen Formen der Teigsäuerung werden erlernt\, und ausgetestet.\nBrot backen – wie k- ausverkauft – ann ich das problemlos Zuhause?\nZur Brotzeit\, sowie als Highlight für Ihre Grillparty.\nSie werden staunen!\nEiweißbrot – der Tipp für Ernährungsbewusste\nBrot hat normalerweise etwa 50-53 % Kohlenhydratanteil.\nMein Eiweißbrot hat nur 3\,5 % – Ideal für eine Kohlenhydrat reduzierte Ernährung.\nLernen Sie Schritt für Schritt dieses köstliche Brot zu backen.\n\nEine kleine Rohstoffkunde über Zusammensetzung – Wirkungsweise – und Backverhalten runden den Kurs ab. Während des Kurses werden Sie selbstverständlich mit Softgetränken und Kaffee versorgt.\nWenn Sie zu Hause ein Problem beim Nachmachen haben – einfach Mail senden – Wir helfen gerne weiter – natürlich kostenlos.\nKursunterlagen – Getränke – Mitnahmegebäck (Kostproben) – sind in der Kursgebühr enthalten. Backzutaten\, sowie einiges Backwerkzeug können auch im Anschluss des Kurses käuflich erworben werden.\nBringen Sie einfach Ihr Interesse und gute Laune mit\, um einige Stunden mit netten Menschen zusammen zu sein. \n     \n   
URL:https://backzeit-backstudio.de/kurstermine/brotbackkurs-90-e-mit-fruehstueck-und-getraenke/
LOCATION:Backzeit-Backstudio-Manufaktur\, Holzweg 55\, Augsburg\, 86156\, Deutschland
CATEGORIES:Brot & Brötchen
ATTACH;FMTTYPE=image/jpeg:https://backzeit-backstudio.de/wp-content/uploads/2018/07/Hüttenbrot-für-Kurs3.jpg
ORGANIZER;CN="Lothar Rother":MAILTO:info@backzeit-backstudio.de
END:VEVENT
BEGIN:VEVENT
DTSTART;TZID=Europe/Berlin:20260518T100000
DTEND;TZID=Europe/Berlin:20260518T140000
DTSTAMP:20260419T170510
CREATED:20230201T161103Z
LAST-MODIFIED:20260222T161007Z
UID:10000110-1779098400-1779112800@backzeit-backstudio.de
SUMMARY:Sommerpause vom 18.05.26  bis 15. September - Gruppenkurse und Einzelcoaching jederzeit möglich
DESCRIPTION:
URL:https://backzeit-backstudio.de/kurstermine/sommerpause-juni-bis-september-2023-wir-freuen-uns-dann-auf-die-herbst-kurse-mit-ihnen/
LOCATION:Backzeit-Backstudio-Manufaktur\, Holzweg 55\, Augsburg\, 86156\, Deutschland
ATTACH;FMTTYPE=image/jpeg:https://backzeit-backstudio.de/wp-content/uploads/2021/08/Back-mers-zusammen-.jpg
ORGANIZER;CN="Lothar Rother":MAILTO:info@backzeit-backstudio.de
END:VEVENT
BEGIN:VEVENT
DTSTART;TZID=Europe/Berlin:20260523T100000
DTEND;TZID=Europe/Berlin:20260523T140000
DTSTAMP:20260419T170510
CREATED:20230203T123651Z
LAST-MODIFIED:20260321T150119Z
UID:10000112-1779530400-1779544800@backzeit-backstudio.de
SUMMARY:Brotbackkurs Teil I.  Anfänger  - ausverkauft - 100 € mit Frühstück und Getränke
DESCRIPTION:Sauerteig – welcher ist für mich der Richtige?\nDie verschiedenen Formen der Teigsäuerung werden erlernt\, und ausgetestet.\nBrot backen – wie kann ich das problemlos Zuhause?\nZur Brotzeit\, sowie als Highlight für Ihre Grillparty.\nSie werden staunen!\nEiweißbrot – der Tipp für Ernährungsbewusste\nBrot hat normalerweise etwa 50-53 % Kohlenhydratanteil.\nMein Eiweißbrot hat nur 3\,5 % – Ideal für eine Kohlenhydrat reduzierte Ernährung.\nLernen Sie Schritt für Schritt dieses köstliche Brot zu backen.\n\nEine kleine Rohstoffkunde über Zusammensetzung – Wirkungsweise – und Backverhalten runden den Kurs ab. Während des Kurses werden Sie selbstverständlich mit Softgetränken und Kaffee versorgt.\nWenn Sie zu Hause ein Problem beim Nachmachen haben – einfach Mail senden – Wir helfen gerne weiter – natürlich kostenlos.\nKursunterlagen – Getränke – Mitnahmegebäck (Kostproben) – sind in der Kursgebühr enthalten. Backzutaten\, sowie einiges Backwerkzeug können auch im Anschluss des Kurses käuflich erworben werden.\nBringen Sie einfach Ihr Interesse und gute Laune mit\, um einige Stunden mit netten Menschen zusammen zu sein. \n     \n \n   
URL:https://backzeit-backstudio.de/kurstermine/brotbackkurs-80-e-mit-fruehstueck-und-getraenke-2/
LOCATION:Backzeit-Backstudio-Manufaktur\, Holzweg 55\, Augsburg\, 86156\, Deutschland
CATEGORIES:Backzeit,Brot & Brötchen
ATTACH;FMTTYPE=image/jpeg:https://backzeit-backstudio.de/wp-content/uploads/2022/08/roggenmischbrot.jpg
ORGANIZER;CN="Lothar Rother":MAILTO:info@backzeit-backstudio.de
END:VEVENT
END:VCALENDAR