BEGIN:VCALENDAR
VERSION:2.0
PRODID:-//Backzeit - Das Backstudio - ECPv6.15.20//NONSGML v1.0//EN
CALSCALE:GREGORIAN
METHOD:PUBLISH
X-ORIGINAL-URL:https://backzeit-backstudio.de
X-WR-CALDESC:Veranstaltungen für Backzeit - Das Backstudio
REFRESH-INTERVAL;VALUE=DURATION:PT1H
X-Robots-Tag:noindex
X-PUBLISHED-TTL:PT1H
BEGIN:VTIMEZONE
TZID:Europe/Berlin
BEGIN:DAYLIGHT
TZOFFSETFROM:+0100
TZOFFSETTO:+0200
TZNAME:CEST
DTSTART:20250330T010000
END:DAYLIGHT
BEGIN:STANDARD
TZOFFSETFROM:+0200
TZOFFSETTO:+0100
TZNAME:CET
DTSTART:20251026T010000
END:STANDARD
BEGIN:DAYLIGHT
TZOFFSETFROM:+0100
TZOFFSETTO:+0200
TZNAME:CEST
DTSTART:20260329T010000
END:DAYLIGHT
BEGIN:STANDARD
TZOFFSETFROM:+0200
TZOFFSETTO:+0100
TZNAME:CET
DTSTART:20261025T010000
END:STANDARD
BEGIN:DAYLIGHT
TZOFFSETFROM:+0100
TZOFFSETTO:+0200
TZNAME:CEST
DTSTART:20270328T010000
END:DAYLIGHT
BEGIN:STANDARD
TZOFFSETFROM:+0200
TZOFFSETTO:+0100
TZNAME:CET
DTSTART:20271031T010000
END:STANDARD
BEGIN:DAYLIGHT
TZOFFSETFROM:+0100
TZOFFSETTO:+0200
TZNAME:CEST
DTSTART:20280326T010000
END:DAYLIGHT
BEGIN:STANDARD
TZOFFSETFROM:+0200
TZOFFSETTO:+0100
TZNAME:CET
DTSTART:20281029T010000
END:STANDARD
END:VTIMEZONE
BEGIN:VEVENT
DTSTART;TZID=Europe/Berlin:20260201T090000
DTEND;TZID=Europe/Berlin:20260201T150000
DTSTAMP:20260419T220433
CREATED:20221016T122225Z
LAST-MODIFIED:20251004T173001Z
UID:10000097-1769936400-1769958000@backzeit-backstudio.de
SUMMARY:Tortenkurs I. 180 €  ganztätig mit Frühstück und Mittagessen
DESCRIPTION:Dieser Tortenkurs ist in zwei Teile gesplittet. Er und dauert in der Regel bis zu 6 Stunden. \nTeil 1 – 9-13 Uhr \n\nTortenböden und Füllungen\nFonds / Rouladenböden\nCremes\n\nTeil 2 – 14-16 Uhr \n\nSie lernen mit Kuvertüre schreiben\nMarzipanrosen herstellen\nTorten zusammenbauen und garnieren\n\nWissenswertes – Tipps und Tricks\nSo gelingt es immer\nEine kleine Rohstoffkunde über Zusammensetzung – Wirkungsweise – und Backverhalten runden den Kurs ab.\nSie schauen zu\, stellen Ihre Fragen\, backen selber und erhalten natürlich die Rezepte und Ihre Backwaren mit nach Hause. Dann können Sie sehen\, wie lange Ihr Selbstgebackenes frisch und saftig bleibt. \nWährend des Kurses werden Sie selbstverständlich mit Softgetränken und Kaffee versorgt. Wenn Sie zu Hause ein Problem beim Nachmachen haben – einfach Mail senden – Wir helfen gerne weiter – natürlich kostenlos. Kursunterlagen\, Getränke und 4 /2 Torten zum mit nachhause nehmen sind in der Kursgebühr enthalten. Bitte Tortenbehälter mitbringen. \nBackzutaten\, sowie einiges Backwerkzeug können auch im Anschluss des Kurses käuflich erworben werden.\nBringen Sie einfach Ihr Interesse und gute Laune mit\, um einige Stunden mit netten Menschen zusammen zu sein. \n  \n   \n   
URL:https://backzeit-backstudio.de/kurstermine/tortenkurs-ganztaetig-160-e/
LOCATION:Backzeit-Backstudio-Manufaktur\, Holzweg 55\, Augsburg\, 86156\, Deutschland
CATEGORIES:Backzeit,Süßes zum Kaffee,Torten
ATTACH;FMTTYPE=image/jpeg:https://backzeit-backstudio.de/wp-content/uploads/2022/09/Buttercremetorte.jpg
ORGANIZER;CN="Lothar Rother":MAILTO:info@backzeit-backstudio.de
END:VEVENT
BEGIN:VEVENT
DTSTART;TZID=Europe/Berlin:20260210T170000
DTEND;TZID=Europe/Berlin:20270209T210000
DTSTAMP:20260419T220433
CREATED:20220615T154334Z
LAST-MODIFIED:20251222T102425Z
UID:10000086-1770742800-1802206800@backzeit-backstudio.de
SUMMARY:Brotbackkurs  Abendkurs 100 € - ausverkauft - mit Brotzeit und Getränke
DESCRIPTION:Sauerteig – welcher ist für mich der Richtige?\nDie verschiedenen Formen der Teigsäuerung werden erlernt\, und ausgetestet.\nBrot backen – wie kann ich das problemlos Zuhause?\nZur Brotzeit\, sowie als Highlight für Ihre Grillparty.\nSie werden staunen!\nEiweißbrot – der Tipp für Ernährungsbewusste\nBrot hat normalerweise etwa 50-53 % Kohlenhydratanteil.\nMein Eiweißbrot hat nur 3\,5 % – Ideal für eine Kohlenhydrat reduzierte Ernährung.\nLernen Sie Schritt für Schritt dieses köstliche Brot zu backen.\n\nEine kleine Rohstoffkunde über Zusammensetzung – Wirkungsweise – und Backverhalten runden den Kurs ab. Während des Kurses werden Sie selbstverständlich mit Softgetränken und Kaffee versorgt.\nWenn Sie zu Hause ein Problem beim Nachmachen haben – einfach Mail senden – Wir helfen gerne weiter – natürlich kostenlos.\nKursunterlagen – Getränke – Mitnahmegebäck (Kostproben) – sind in der Kursgebühr enthalten. Backzutaten\, sowie einiges Backwerkzeug können auch im Anschluss des Kurses käuflich erworben werden.\nBringen Sie einfach Ihr Interesse und gute Laune mit\, um einige Stunden mit netten Menschen zusammen zu sein. \n    \n  
URL:https://backzeit-backstudio.de/kurstermine/brotbackkurs/
LOCATION:Backzeit-Backstudio-Manufaktur\, Holzweg 55\, Augsburg\, 86156\, Deutschland
CATEGORIES:Backzeit,Brot & Brötchen
ATTACH;FMTTYPE=image/jpeg:https://backzeit-backstudio.de/wp-content/uploads/2018/07/Hüttenbrot-für-Kurs3.jpg
ORGANIZER;CN="Lothar Rother":MAILTO:info@backzeit-backstudio.de
END:VEVENT
BEGIN:VEVENT
DTSTART;TZID=Europe/Berlin:20260214T100000
DTEND;TZID=Europe/Berlin:20260214T140000
DTSTAMP:20260419T220433
CREATED:20231101T132402Z
LAST-MODIFIED:20260114T043846Z
UID:10000129-1771063200-1771077600@backzeit-backstudio.de
SUMMARY:Macarons 100 € - ausverkauft -   mit Frühstück und Getränke
DESCRIPTION:     \nMacarons sind die Krönung der ästhetischen Pâtisserie. Das französische Baiser-Gebäck kommt mal in eleganter Pastell-Optik und mal knall-bunt daher\, fast zu schade um es gleich im Mund verschwinden zu lassen. Doch was anderes bleibt uns meist nicht übrig\, denn Macarons sehen nicht nur verdammt gut aus\, sondern schmecken auch himmlisch. \n  \nUnser Konditormeister zeigt Ihnen wie Sie diese leckerei sicher Zuhause herstellen können. \nUnsere Füllungen werden Sie überraschen. Im Programm auch die Herstellung einer ital. Baiser Masse. \nSie können im Kurs dann auch die Zutaten erwerben.
URL:https://backzeit-backstudio.de/kurstermine/macarons-100-e-mit-fruehstueck-und-getraenke/
LOCATION:Backzeit-Backstudio-Manufaktur\, Holzweg 55\, Augsburg\, 86156\, Deutschland
CATEGORIES:Backzeit,Macarons,Süßes zum Kaffee
ATTACH;FMTTYPE=image/jpeg:https://backzeit-backstudio.de/wp-content/uploads/2024/11/20241020_131411-scaled.jpg
ORGANIZER;CN="Lothar Rother":MAILTO:info@backzeit-backstudio.de
END:VEVENT
BEGIN:VEVENT
DTSTART;TZID=Europe/Berlin:20260221T100000
DTEND;TZID=Europe/Berlin:20260221T140000
DTSTAMP:20260419T220433
CREATED:20230204T173918Z
LAST-MODIFIED:20260218T161452Z
UID:10000114-1771668000-1771682400@backzeit-backstudio.de
SUMMARY:Kuchenkurs  100 €  mit Frühstück und Getränke-
DESCRIPTION:Tipps und Tricks – So gelingt es immer.\n\nButtermürbeteig für jeden Zweck\n\n1-2-3 das Erfolgsrezept: Ob als Mürbteigboden oder Teegebäck\, als Dauergebäck oder Weihnachtsgebäck\, egal\, der passt immer. . \n\nKäsekuchen „sehr fein“ geschnitten – wie vom Konditor \n\nOb Käseschnitte\, oder als Kuchen mit Füllungen einfach staunen wie einfach das geht. \n\nNussecken/Kokosecken  der Extraklasse\n\nDauergebäck sollte immer im Haus sein\, denn gekauftes kommt dann doch nicht so rüber. \n\nDie Biskuitroulade\n\nGelingt immer und klebt nicht!\nOb mit Sahnefüllung\, oder klassisch mit Marmelade\neinfacher geht es wirklich nicht. \n\nBienenstich ohne Hefeteig – ein Rezept welches überrascht \n\n  \nEine kleine Rohstoffkunde über Zusammensetzung – Wirkungsweise – und Backverhalten runden den Kurs ab. Sie schauen zu\, stellen Ihre Fragen\, backen selber und erhalten natürlich die Rezepte und Ihre Backwaren mit nachhause. Dann können Sie sehen\, wie lange Ihr Selbstgebackenes frisch und saftig bleibt. Während des Kurses werden Sie selbstverständlich mit Softgetränken und Kaffee versorgt. Wenn Sie zu Hause ein Problem beim Nachbacken haben – einfach Mail senden – Wir helfen gerne weiter – natürlich kostenlos. Kursunterlagen – Getränke – Mitnahmegebäck (Kostproben) – sind in der Kursgebühr enthalten. Backzutaten\, sowie einiges Backwerkzeug können auch im Anschluss des Kurses käuflich erworben werden. Ebenso die im Kurs verwendete Mehlsorten. Bringen Sie einfach Ihr Interesse und gute Laune mit\, um einige Stunden mit netten Menschen zusammen zu sein. \n     \n   
URL:https://backzeit-backstudio.de/kurstermine/kuchenkurs-100-e-mit-fruehstueck-und-getraenke-2/
LOCATION:Backzeit-Backstudio-Manufaktur\, Holzweg 55\, Augsburg\, 86156\, Deutschland
CATEGORIES:Backzeit,Blätterteig,Süßes zum Kaffee,Torten
ATTACH;FMTTYPE=image/jpeg:https://backzeit-backstudio.de/wp-content/uploads/2018/06/DSC00523-1.jpg
ORGANIZER;CN="Lothar Rother":MAILTO:info@backzeit-backstudio.de
END:VEVENT
END:VCALENDAR