BEGIN:VCALENDAR
VERSION:2.0
PRODID:-//Backzeit - Das Backstudio - ECPv6.15.20//NONSGML v1.0//EN
CALSCALE:GREGORIAN
METHOD:PUBLISH
X-WR-CALNAME:Backzeit - Das Backstudio
X-ORIGINAL-URL:https://backzeit-backstudio.de
X-WR-CALDESC:Veranstaltungen für Backzeit - Das Backstudio
REFRESH-INTERVAL;VALUE=DURATION:PT1H
X-Robots-Tag:noindex
X-PUBLISHED-TTL:PT1H
BEGIN:VTIMEZONE
TZID:Europe/Berlin
BEGIN:DAYLIGHT
TZOFFSETFROM:+0100
TZOFFSETTO:+0200
TZNAME:CEST
DTSTART:20250330T010000
END:DAYLIGHT
BEGIN:STANDARD
TZOFFSETFROM:+0200
TZOFFSETTO:+0100
TZNAME:CET
DTSTART:20251026T010000
END:STANDARD
BEGIN:DAYLIGHT
TZOFFSETFROM:+0100
TZOFFSETTO:+0200
TZNAME:CEST
DTSTART:20260329T010000
END:DAYLIGHT
BEGIN:STANDARD
TZOFFSETFROM:+0200
TZOFFSETTO:+0100
TZNAME:CET
DTSTART:20261025T010000
END:STANDARD
BEGIN:DAYLIGHT
TZOFFSETFROM:+0100
TZOFFSETTO:+0200
TZNAME:CEST
DTSTART:20270328T010000
END:DAYLIGHT
BEGIN:STANDARD
TZOFFSETFROM:+0200
TZOFFSETTO:+0100
TZNAME:CET
DTSTART:20271031T010000
END:STANDARD
END:VTIMEZONE
BEGIN:VEVENT
DTSTART;TZID=Europe/Berlin:20260111T100000
DTEND;TZID=Europe/Berlin:20260111T133000
DTSTAMP:20260419T234222
CREATED:20230525T075907Z
LAST-MODIFIED:20251227T175013Z
UID:10000124-1768125600-1768138200@backzeit-backstudio.de
SUMMARY:Krapfen - Ausgezogene - Windbeutel - Strauben  - ausverkauft-  100 € incl. Frühstück und Getränke
DESCRIPTION:Fettgebäck  \nKennen Sie das Problem\, wenn Sie Krapfen nicht vertragen?\nIhr Magen jammert\, und Sie müssen den Krapfen nach Stunden noch im Magen verarbeiten.\nDie Fettaufnahme des Krapfens\, sowie die Fettqualität ist absolut entscheidend.\nLernen Sie mit uns Krapfen herzustellen welche sehr wenig Fett aufnehmen\, und natürlich benutzen wir nur gutes Pflanzenöl\, oder Butterschmalz zum Frittieren.\nWir garantieren\, so einen Krapfen haben Sie noch nie verkostet.\nEine kleine Rohstoffkunde über Zusammensetzung – Wirkungsweise – und Backverhalten runden den Kurs ab.\nWährend des Kurses werden Sie selbstverständlich mit Softgetränken und Kaffee versorgt.\nWenn Sie zu Hause ein Problem beim Nachmachen haben – einfach Mail senden – Wir helfen gerne weiter – natürlich kostenlos.\nKursunterlagen – Getränke – Mitnahmegebäck (Kostproben) – sind in der Kursgebühr enthalten.\nBackzutaten\, sowie einiges Backwerkzeug können auch im Anschluss des Kurses käuflich erworben werden.\nBringen Sie einfach Ihr Interesse und gute Laune mit\, um einige Stunden mit netten Menschen zusammen zu sein. \nKursinhalt\n\nKrapfen \n\nLecker\, locker und natürlich gebacken. Sie werden staunen\, wie wenig Fett diese Krapfen aufnehmen. \n\nAusgezogene\n\nWie Oma das gemacht hat\, mit Vanillezucker – einfach lecker \n\nWindbeutel\n\nWir kochen unsere Brandmasse selber\, einfach\, schnell und sicher \n\nQuarkbällchen\n\nLocker und schön geformt \n     \n \nKrapfen –  Windbeutel
URL:https://backzeit-backstudio.de/kurstermine/krapfen-ausgezogene-windbeutel-strauben-100-e-incl-fruehstueck-und-getraenke/
LOCATION:Backzeit-Backstudio-Manufaktur\, Holzweg 55\, Augsburg\, 86156\, Deutschland
CATEGORIES:Backzeit,Fettgebäck,Süßes zum Kaffee
ATTACH;FMTTYPE=image/jpeg:https://backzeit-backstudio.de/wp-content/uploads/2018/06/Krapfen.jpg
ORGANIZER;CN="Lothar Rother":MAILTO:info@backzeit-backstudio.de
END:VEVENT
BEGIN:VEVENT
DTSTART;TZID=Europe/Berlin:20260124T100000
DTEND;TZID=Europe/Berlin:20260124T140000
DTSTAMP:20260419T234222
CREATED:20231212T175810Z
LAST-MODIFIED:20251209T170321Z
UID:10000072-1769248800-1769263200@backzeit-backstudio.de
SUMMARY:Französische Gebäcke 100 €- ausverkauft -  mit Frühstück und Getränke
DESCRIPTION:Eine kleine Rohstoffkunde über Zusammensetzung – Wirkungsweise – und Backverhalten runden den Kurs ab.\nWährend des Kurses werden Sie selbstverständlich mit Softgetränken und Kaffee versorgt.\nWenn Sie zu Hause ein Problem beim Nachmachen haben – einfach Mail senden – Wir helfen gerne weiter – natürlich kostenlos.\nKursunterlagen – Getränke – Mitnahmegebäck (Kostproben) – sind in der Kursgebühr enthalten.\nBackzutaten\, sowie einiges Backwerkzeug können auch im Anschluss des Kurses käuflich erworben werden.\nBringen Sie einfach Ihr Interesse und gute Laune mit\, um einige Stunden mit netten Menschen zusammen zu sein. \nButtercroissant – franz. Baguette – Eclairs \n  \nDenken Sie bitte daran\, dass Sie Ihre eigene Schürze mitbringen müssen.\nAlles was gebacken wurde\, wird dann von den Teilnehmern mit genommen. Bitte bringen Sie Verpackungsutensilien selber mit. \n      
URL:https://backzeit-backstudio.de/kurstermine/franzoesische-gebaecke-100-e-mit-fruehstueck-und-getraenke-2/
LOCATION:Backzeit-Backstudio-Manufaktur\, Holzweg 55\, Augsburg\, 86156\, Deutschland
CATEGORIES:Backzeit,Macarons,Süßes zum Kaffee
ATTACH;FMTTYPE=image/jpeg:https://backzeit-backstudio.de/wp-content/uploads/2019/06/dinkel_brot_seminar-e1655464211844.jpg
ORGANIZER;CN="Lothar Rother":MAILTO:info@backzeit-backstudio.de
END:VEVENT
BEGIN:VEVENT
DTSTART;TZID=Europe/Berlin:20260125T100000
DTEND;TZID=Europe/Berlin:20260125T140000
DTSTAMP:20260419T234222
CREATED:20230124T114407Z
LAST-MODIFIED:20251107T165108Z
UID:10000107-1769335200-1769349600@backzeit-backstudio.de
SUMMARY:Sonntagssemmel 100 €  mit Frühstück und Getränke
DESCRIPTION:Eine kleine Rohstoffkunde über Zusammensetzung – Wirkungsweise – und Backverhalten runden den Kurs ab.\nWährend des Kurses werden Sie selbstverständlich mit Softgetränken und Kaffee versorgt.\nWenn Sie zu Hause ein Problem beim Nachmachen haben – einfach Mail senden – Wir helfen gerne weiter – natürlich kostenlos.\nKursunterlagen – Getränke – Mitnahmegebäck (Kostproben) – sind in der Kursgebühr enthalten.\nBackzutaten\, sowie einiges Backwerkzeug können auch im Anschluss des Kurses käuflich erworben werden.\nBringen Sie einfach Ihr Interesse und gute Laune mit\, um einige Stunden mit netten Menschen zusammen zu sein. \nKursinhalt:\n\nSonntagswecken\n\nschnell\, sicher\, und einfach hergestellt. Am Samstag gemacht – und am Sonntag zum Frühstück gebacken. \n\nRosinensemmel – oder Milchsemmel / Eiweckerl\n\nder Extraklasse\, auch zum Einfrieren\, damit die ganze Woche gerettet ist. \n\nLaugengebäck\n\n– was wären wir in Bayern ohne unser Laugengebäck. Das ist einfacher als Sie denken – versprochen-\nZöpferl – Knopfsemmel\, das können Sie auch. Werden Sie einfach mit unserer Hilfe zum Profi. \n\nSonnenblumenbrot\n\n\nRoggenmischbrot\n\nlange saftig – mit Natursauerteig \n       \nKursdauer: 3-4  Stunden\nAbgehalten wird der Kurs von einem Bäckermeister/in. \nDenken Sie bitte daran\, dass Sie Ihre eigene Schürze mitbringen müssen. Alles was gebacken wurde\, wird dann von den Teilnehmern mit genommen. Bitte bringen Sie Verpackungsutensilien selber mit. \nWeitere Informationen zum Kursablauf
URL:https://backzeit-backstudio.de/kurstermine/sonntagssemmel-80-e-mit-fruehstueck-und-getraenke-2/
LOCATION:Backzeit-Backstudio-Manufaktur\, Holzweg 55\, Augsburg\, 86156\, Deutschland
CATEGORIES:Backzeit,Brot & Brötchen
ATTACH;FMTTYPE=image/jpeg:https://backzeit-backstudio.de/wp-content/uploads/2019/01/IMG_4761.jpg
ORGANIZER;CN="Lothar Rother":MAILTO:info@backzeit-backstudio.de
END:VEVENT
BEGIN:VEVENT
DTSTART;TZID=Europe/Berlin:20260131T100000
DTEND;TZID=Europe/Berlin:20260131T140000
DTSTAMP:20260419T234222
CREATED:20230201T160321Z
LAST-MODIFIED:20251014T122329Z
UID:10000109-1769853600-1769868000@backzeit-backstudio.de
SUMMARY:Kuchenkurs   100 €  mit Getränke und Frühstück
DESCRIPTION:– ausverkauft – Tipps und Tricks – So gelingt es immer.\n\nButtermürbeteig für jeden Zweck\n\n1-2-3 das Erfolgsrezept: Ob als Mürbteigboden oder Teegebäck\, als Dauergebäck oder Weihnachtsgebäck\, egal\, der passt immer. . \n\nKäsekuchen „sehr fein“ geschnitten – wie vom Konditor \n\nOb Käseschnitte\, oder als Kuchen mit Füllungen einfach staunen wie einfach das geht. \n\nNussecken/Kokosecken  der Extraklasse\n\nDauergebäck sollte immer im Haus sein\, denn gekauftes kommt dann doch nicht so rüber. \n\nDie Biskuitroulade\n\nGelingt immer und klebt nicht!\nOb mit Sahnefüllung\, oder klassisch mit Marmelade\neinfacher geht es wirklich nicht. \n\nBienenstich ohne Hefeteig – ein Rezept welches überrascht \n\n  \nEine kleine Rohstoffkunde über Zusammensetzung – Wirkungsweise – und Backverhalten runden den Kurs ab. Sie schauen zu\, stellen Ihre Fragen\, backen selber und erhalten natürlich die Rezepte und Ihre Backwaren mit nachhause. Dann können Sie sehen\, wie lange Ihr Selbstgebackenes frisch und saftig bleibt. Während des Kurses werden Sie selbstverständlich mit Softgetränken und Kaffee versorgt. Wenn Sie zu Hause ein Problem beim Nachbacken haben – einfach Mail senden – Wir helfen gerne weiter – natürlich kostenlos. Kursunterlagen – Getränke – Mitnahmegebäck (Kostproben) – sind in der Kursgebühr enthalten. Backzutaten\, sowie einiges Backwerkzeug können auch im Anschluss des Kurses käuflich erworben werden. Ebenso die im Kurs verwendete Mehlsorten. Bringen Sie einfach Ihr Interesse und gute Laune mit\, um einige Stunden mit netten Menschen zusammen zu sein. \n     \n   
URL:https://backzeit-backstudio.de/kurstermine/kuchenkurs-100-e-mit-getraenke-und-fruehstueck/
LOCATION:Backzeit-Backstudio-Manufaktur\, Holzweg 55\, Augsburg\, 86156\, Deutschland
CATEGORIES:Backzeit,Süßes zum Kaffee
ATTACH;FMTTYPE=image/jpeg:https://backzeit-backstudio.de/wp-content/uploads/2022/07/Kaesekirsch04353-1_Groesse-aendern.jpg
ORGANIZER;CN="Lothar Rother":MAILTO:info@backzeit-backstudio.de
END:VEVENT
END:VCALENDAR